BEGIN:VCALENDAR
VERSION:2.0
PRODID:-//Classic Events - ECPv6.15.20//NONSGML v1.0//EN
CALSCALE:GREGORIAN
METHOD:PUBLISH
X-WR-CALNAME:Classic Events
X-ORIGINAL-URL:https://classicevents.nl
X-WR-CALDESC:Events for Classic Events
REFRESH-INTERVAL;VALUE=DURATION:PT1H
X-Robots-Tag:noindex
X-PUBLISHED-TTL:PT1H
BEGIN:VTIMEZONE
TZID:Europe/Paris
BEGIN:DAYLIGHT
TZOFFSETFROM:+0100
TZOFFSETTO:+0200
TZNAME:CEST
DTSTART:20230326T010000
END:DAYLIGHT
BEGIN:STANDARD
TZOFFSETFROM:+0200
TZOFFSETTO:+0100
TZNAME:CET
DTSTART:20231029T010000
END:STANDARD
BEGIN:DAYLIGHT
TZOFFSETFROM:+0100
TZOFFSETTO:+0200
TZNAME:CEST
DTSTART:20240331T010000
END:DAYLIGHT
BEGIN:STANDARD
TZOFFSETFROM:+0200
TZOFFSETTO:+0100
TZNAME:CET
DTSTART:20241027T010000
END:STANDARD
BEGIN:DAYLIGHT
TZOFFSETFROM:+0100
TZOFFSETTO:+0200
TZNAME:CEST
DTSTART:20250330T010000
END:DAYLIGHT
BEGIN:STANDARD
TZOFFSETFROM:+0200
TZOFFSETTO:+0100
TZNAME:CET
DTSTART:20251026T010000
END:STANDARD
END:VTIMEZONE
BEGIN:VEVENT
DTSTART;TZID=Europe/Paris:20240128T080000
DTEND;TZID=Europe/Paris:20240202T170000
DTSTAMP:20260422T040641
CREATED:20230220T122939Z
LAST-MODIFIED:20231027T145823Z
UID:10331-1706428800-1706893200@classicevents.nl
SUMMARY:Winter Trial 2024
DESCRIPTION:What people said on 2023:\nSlovenia was very good\, excellent hotels and good roads. Also lots of hairpin bends and many opportunities to make mistakes on the most slippery regularities.\nThanks for organizing this fantastic Winter Trial.\n\nIt was an exciting week and seriously strenuous. We enjoyed it and\nthe Win as the end result\, it won't get any better!\nThank you for the beautiful memory you gave us again. I take my hat off to the tremendous achievement you and your team have delivered. I appreciate that very much. Keep up the good work!!\nEdition 2024\n\nThe route is set and driven\, Iain Tullie is working on the route details and we have disclosed all our overnight halts for 2024! Roaring to go!\nPoland\, Slowakia and the Czech Republic are the three countries we will visit and we will combine the best of the three Tatra countries for you. We promise you that we will do our utmost to try and find you the magical white stuff\, even if this means going further east… \n     \n\n\nWhat is The Winter Trial?\n\nThe Winter Trial is a six-day regularity rally for classic cars which takes place in the winter.\nIt is an experience driving on snowy roads through rough landscapes whilst navigation your way and try to stay as close as possible to the set times. The teams will drive approximately 350 km per day\, and the experienced teams also drive two night loops of an additional 150 km per night.\nWhat can you expect?\nStart – 28 January 2024 \nFinish – 2 February 2024 \nCars – Classic cars build before 1986 (till 31-12-1985) \nLength – approx. 2.500 km \nNavigation type – Basic map reading & tulips \nCompetition – Regularity’s\, driving tests \nHistory\nThe first ever Winter Trial was organized in 2001. This event was won by Roger Byford and Willy Cave\, driving an MGB. This first edition went from The Netherlands southwards through the Alps to finish in Monte-Carlo. Since then\, we visited all countries in Europe where there is a reasonable snow expectation. Last year The Winter Trail started in Berchtesgaden and after a complete tour through Slovenia the winners were crowned in Brdo (Slovenia). For the first time\, the first prize was claimed by Rob van Leeuwen and Maurits Verhoeff.\n\nWhat is new for 2024? \n\nThe route will be completely redesigned to give you the best possible roads and venues. \nI am new to the Winter Trial\, is that a problem?\nThat definitely is not a concern. In December 2023 we will organize an afternoon for the newcomers to teach you the tips and tricks.\n\nWho can compete?\n\nIf you have a valid driving license and common sense\, good humour and an interest in having fun and a classic car than you can enter!\nWhat type of car is eligible?\nThere will be two categories: Vintage cars of a type in production before the end of 1948\, and Classic cars of a type in production before the end of 1985. Whichever type you decide to bring is completely free. However\, it should be safe and reliable\, have a fuel range of at least 300 km\, and be fitted with an accurate trip meter. \n     \n\nWhat class should I enter?\n\nWe have two classes: The Challenge Class drives the full daytime route\, but does not drive the evening loops. They spend more time in the bar and have lots of fun.\nThe Trial Class is much more competitive. You need a more experienced navigator and be willing to drive two evening loops of about 3 hours each.\n\n\nDo I need a competition license?\n\n\nYes you do\, but if you do not have a valid one\, a KNAF rally pass will be available at signing on. \n\n\n\nDo I need to be a professional rally driver/navigator?\nThis is not a speed event but a road rally\, run within normal traffic rules. You do not need helmets or fireproof overalls.  Above all\, the event is intended to be friendly and fun; with time to socialize with your fellow participants and enjoy the scenery.\n\nWhat does the entry fee include?\n\nYou are guaranteed 6 days of wonderful driving roads with hopefully a lot of snow. The routebook will and mapbook will be issued to you at signing on the day before the start of the event. The whole route will remain a secret till the very last minute.\nAccommodation and all dinners (including drinks) and lunches are included\, from the welcome dinner the evening before the start to the prize giving dinner at the finish. Every crew completing the rally will receive finisher’s awards\, and overall and class winners will also be presented with trophies. Dedicated parking\, metal rally plates and number roundels will also be provided. A team of marshals and mechanics will tag along to ensure the most smiles per mile and make sure we will all reach the finish line.\nNot included in the entry fee is your bar bill\, fuel\, vehicle insurance and car shipping to the start and from the finish back home.\n\nEntry fee\n\n\nA deposit of €1.500 will secure your entry for the event. A balance of €4.890 is then payable before 1 June 2022 (and €5.190 after June 1st.). \nEntrée fee if fully paid before June 1\, 2023 €6.390\nEntrée fee if fully paid after June 1 but before September 1\, 2023 €6.690\nEntrée fee paid after September 1\, 2023 €6.990\nPlease contact the Rally Office for more information\, register with the button below or download your Application form WT 2024\nBy filling out the entry form and submitting your entry to the rally office\, you agree to the terms as stated in our event regulations.  \n\n\n\n\n\n\n\n\n\n\n\nAdd to calendar\n\n\n\nHomeWT-2024Entry listSt Lst / ResultsDaily ReportsRouteDownloads
URL:https://classicevents.nl/event/winter-trial-2024/
CATEGORIES:Rally's,Trial Club Rally
ATTACH;FMTTYPE=image/png:https://classicevents.nl/wp-content/uploads/2023/02/Logo_Winter_Trial_2024_RGB.png
ORGANIZER;CN="Classic Events":MAILTO:info@classicevents.nl
END:VEVENT
END:VCALENDAR